View In:
ArcGIS JavaScript
ArcGIS Online map viewer
Google Earth
ArcMap
View Footprint In:
ArcGIS Online map viewer
Service Description: Dubai SAT
Name: KA/Mosaic
Description: Dubai SAT
Single Fused Map Cache: false
Extent:
XMin: 488572.4461168264
YMin: 3430881.7352052545
XMax: 517563.2513938676
YMax: 3462729.969314271
Spatial Reference: PROJCS["KUDAMS_Transverse_Mercator",GEOGCS["GCS_KUDAMS",DATUM["D_Kuwait_Utility",SPHEROID["GRS_1980",6378137.0,298.257222101]],PRIMEM["Greenwich",0.0],UNIT["Degree",0.0174532925199433]],PROJECTION["Transverse_Mercator"],PARAMETER["False_Easting",499975.0],PARAMETER["False_Northing",209269.0],PARAMETER["Central_Meridian",48.0],PARAMETER["Scale_Factor",1.0],PARAMETER["Latitude_Of_Origin",0.0],UNIT["Meter",1.0]]
Initial Extent:
XMin: 488572.4461168264
YMin: 3430881.7352052545
XMax: 517563.2513938676
YMax: 3462729.969314271
Spatial Reference: PROJCS["KUDAMS_Transverse_Mercator",GEOGCS["GCS_KUDAMS",DATUM["D_Kuwait_Utility",SPHEROID["GRS_1980",6378137.0,298.257222101]],PRIMEM["Greenwich",0.0],UNIT["Degree",0.0174532925199433]],PROJECTION["Transverse_Mercator"],PARAMETER["False_Easting",499975.0],PARAMETER["False_Northing",209269.0],PARAMETER["Central_Meridian",48.0],PARAMETER["Scale_Factor",1.0],PARAMETER["Latitude_Of_Origin",0.0],UNIT["Meter",1.0]]
Full Extent:
XMin: 488572.4461168264
YMin: 3430881.7352052545
XMax: 517563.2513938676
YMax: 3462729.969314271
Spatial Reference: PROJCS["KUDAMS_Transverse_Mercator",GEOGCS["GCS_KUDAMS",DATUM["D_Kuwait_Utility",SPHEROID["GRS_1980",6378137.0,298.257222101]],PRIMEM["Greenwich",0.0],UNIT["Degree",0.0174532925199433]],PROJECTION["Transverse_Mercator"],PARAMETER["False_Easting",499975.0],PARAMETER["False_Northing",209269.0],PARAMETER["Central_Meridian",48.0],PARAMETER["Scale_Factor",1.0],PARAMETER["Latitude_Of_Origin",0.0],UNIT["Meter",1.0]]
Pixel Size X: 1.0208748953109803
Pixel Size Y: 1.0208748953109787
Band Count: 1
Pixel Type: S16
RasterFunction Infos: N/A
Mensuration Capabilities: Basic
Has Histograms: true
Has Colormap: false
Has Multi Dimensions : false
Rendering Rule:
Min Scale: 0
Max Scale: 0
Copyright Text: Dubai SAT
Service Data Type: esriImageServiceDataTypeGeneric
Min Values: 0
Max Values: 1023
Mean Values: 189.1134412298597
Standard Deviation Values: 172.3200954015759
Object ID Field:
Fields:
None
Default Mosaic Method: Center
Allowed Mosaic Methods:
SortField:
SortValue: null
Mosaic Operator: First
Default Compression Quality: 75
Default Resampling Method: Bilinear
Max Record Count: null
Max Image Height: 4100
Max Image Width: 15000
Max Download Image Count: null
Max Mosaic Image Count: null
Allow Raster Function: true
Allow Compute TiePoints: false
Supports Statistics: false
Supports Advanced Queries: false
Use StandardizedQueries: true
Raster Type Infos:
Name: Raster Dataset
Description: Supports all ArcGIS Raster Datasets
Help:
Has Raster Attribute Table: false
Edit Fields Info: null
Ownership Based AccessControl For Rasters: null
Child Resources:
Info
Histograms
Key Properties
Legend
MultiDimensionalInfo
rasterFunctionInfos
Supported Operations:
Export Image
Identify
Measure
Compute Histograms
Compute Statistics Histograms
Get Samples
Compute Class Statistics