{
 "currentVersion": 10.4,
 "serviceDescription": "Dubai SAT",
 "name": "KA/Mosaic",
 "description": "Dubai SAT",
 "extent": {
  "xmin": 488572.4461168264,
  "ymin": 3430881.7352052545,
  "xmax": 517563.2513938676,
  "ymax": 3462729.969314271,
  "spatialReference": {
   "wkt": "PROJCS[\"KUDAMS_Transverse_Mercator\",GEOGCS[\"GCS_KUDAMS\",DATUM[\"D_Kuwait_Utility\",SPHEROID[\"GRS_1980\",6378137.0,298.257222101]],PRIMEM[\"Greenwich\",0.0],UNIT[\"Degree\",0.0174532925199433]],PROJECTION[\"Transverse_Mercator\"],PARAMETER[\"False_Easting\",499975.0],PARAMETER[\"False_Northing\",209269.0],PARAMETER[\"Central_Meridian\",48.0],PARAMETER[\"Scale_Factor\",1.0],PARAMETER[\"Latitude_Of_Origin\",0.0],UNIT[\"Meter\",1.0]]"
  }
 },
 "initialExtent": {
  "xmin": 488572.4461168264,
  "ymin": 3430881.7352052545,
  "xmax": 517563.2513938676,
  "ymax": 3462729.969314271,
  "spatialReference": {
   "wkt": "PROJCS[\"KUDAMS_Transverse_Mercator\",GEOGCS[\"GCS_KUDAMS\",DATUM[\"D_Kuwait_Utility\",SPHEROID[\"GRS_1980\",6378137.0,298.257222101]],PRIMEM[\"Greenwich\",0.0],UNIT[\"Degree\",0.0174532925199433]],PROJECTION[\"Transverse_Mercator\"],PARAMETER[\"False_Easting\",499975.0],PARAMETER[\"False_Northing\",209269.0],PARAMETER[\"Central_Meridian\",48.0],PARAMETER[\"Scale_Factor\",1.0],PARAMETER[\"Latitude_Of_Origin\",0.0],UNIT[\"Meter\",1.0]]"
  }
 },
 "fullExtent": {
  "xmin": 488572.4461168264,
  "ymin": 3430881.7352052545,
  "xmax": 517563.2513938676,
  "ymax": 3462729.969314271,
  "spatialReference": {
   "wkt": "PROJCS[\"KUDAMS_Transverse_Mercator\",GEOGCS[\"GCS_KUDAMS\",DATUM[\"D_Kuwait_Utility\",SPHEROID[\"GRS_1980\",6378137.0,298.257222101]],PRIMEM[\"Greenwich\",0.0],UNIT[\"Degree\",0.0174532925199433]],PROJECTION[\"Transverse_Mercator\"],PARAMETER[\"False_Easting\",499975.0],PARAMETER[\"False_Northing\",209269.0],PARAMETER[\"Central_Meridian\",48.0],PARAMETER[\"Scale_Factor\",1.0],PARAMETER[\"Latitude_Of_Origin\",0.0],UNIT[\"Meter\",1.0]]"
  }
 },
 "pixelSizeX": 1.0208748953109803,
 "pixelSizeY": 1.0208748953109787,
 "bandCount": 1,
 "pixelType": "S16",
 "minPixelSize": 0,
 "maxPixelSize": 0,
 "copyrightText": "Dubai SAT",
 "serviceDataType": "esriImageServiceDataTypeGeneric",
 "minValues": [
  0
 ],
 "maxValues": [
  1023
 ],
 "meanValues": [
  189.1134412298597
 ],
 "stdvValues": [
  172.3200954015759
 ],
 "objectIdField": "",
 "fields": [],
 "capabilities": "Image,Metadata,Mensuration",
 "defaultMosaicMethod": "Center",
 "allowedMosaicMethods": "",
 "sortField": "",
 "sortValue": null,
 "mosaicOperator": "First",
 "defaultCompressionQuality": 75,
 "defaultResamplingMethod": "Bilinear",
 "maxImageHeight": 4100,
 "maxImageWidth": 15000,
 "allowRasterFunction": true,
 "rasterFunctionInfos": [],
 "rasterTypeInfos": [
  {
   "name": "Raster Dataset",
   "description": "Supports all ArcGIS Raster Datasets",
   "help": ""
  }
 ],
 "mensurationCapabilities": "Basic",
 "hasHistograms": true,
 "hasColormap": false,
 "hasRasterAttributeTable": false,
 "minScale": 0,
 "maxScale": 0,
 "exportTilesAllowed": false,
 "hasMultidimensions": false,
 "supportsStatistics": false,
 "supportsAdvancedQueries": false,
 "editFieldsInfo": null,
 "ownershipBasedAccessControlForRasters": null,
 "allowComputeTiePoints": false,
 "useStandardizedQueries": true,
 "advancedQueryCapabilities": {
  "useStandardizedQueries": true,
  "supportsStatistics": false,
  "supportsOrderBy": false,
  "supportsDistinct": false,
  "supportsPagination": false
 },
 "spatialReference": {
  "wkt": "PROJCS[\"KUDAMS_Transverse_Mercator\",GEOGCS[\"GCS_KUDAMS\",DATUM[\"D_Kuwait_Utility\",SPHEROID[\"GRS_1980\",6378137.0,298.257222101]],PRIMEM[\"Greenwich\",0.0],UNIT[\"Degree\",0.0174532925199433]],PROJECTION[\"Transverse_Mercator\"],PARAMETER[\"False_Easting\",499975.0],PARAMETER[\"False_Northing\",209269.0],PARAMETER[\"Central_Meridian\",48.0],PARAMETER[\"Scale_Factor\",1.0],PARAMETER[\"Latitude_Of_Origin\",0.0],UNIT[\"Meter\",1.0]]"
 }
}
