View In:
ArcGIS JavaScript
ArcGIS Online map viewer
Google Earth
ArcMap
View Footprint In:
ArcGIS Online map viewer
Service Description: satellite_eesa/t4
Name: satellite_eesa/t4
Description: satellite_eesa/t4
Single Fused Map Cache: false
Extent:
XMin: 47.81360379846692
YMin: 29.173367779333393
XMax: 48.126772968416574
YMax: 29.411647609017265
Spatial Reference: 4326
(4326)
Initial Extent:
XMin: 47.81360379846692
YMin: 29.173367779333393
XMax: 48.126772968416574
YMax: 29.411647609017265
Spatial Reference: 4326
(4326)
Full Extent:
XMin: 47.81360379846692
YMin: 29.173367779333393
XMax: 48.126772968416574
YMax: 29.411647609017265
Spatial Reference: 4326
(4326)
Pixel Size X: 5.3672648582582574E-6
Pixel Size Y: 5.366179391133055E-6
Band Count: 4
Pixel Type: U16
RasterFunction Infos: N/A
Mensuration Capabilities: Basic
Has Histograms: true
Has Colormap: false
Has Multi Dimensions : false
Rendering Rule:
Min Scale: 0
Max Scale: 0
Copyright Text:
Service Data Type: esriImageServiceDataTypeGeneric
Min Values: 0, 0, 0, 255
Max Values: 255, 255, 255, 255
Mean Values: 143.96030777238, 142.81468775858, 120.06781562037, 255
Standard Deviation Values: 77.716402454449, 55.979325164705, 49.442792555631, 0
Object ID Field:
Fields:
None
Default Mosaic Method: Center
Allowed Mosaic Methods:
SortField:
SortValue: null
Mosaic Operator: First
Default Compression Quality: 75
Default Resampling Method: Bilinear
Max Record Count: null
Max Image Height: 4100
Max Image Width: 15000
Max Download Image Count: null
Max Mosaic Image Count: null
Allow Raster Function: true
Allow Compute TiePoints: false
Supports Statistics: false
Supports Advanced Queries: false
Use StandardizedQueries: true
Raster Type Infos:
Name: Raster Dataset
Description: Supports all ArcGIS Raster Datasets
Help:
Has Raster Attribute Table: false
Edit Fields Info: null
Ownership Based AccessControl For Rasters: null
Child Resources:
Info
Histograms
Key Properties
Legend
MultiDimensionalInfo
rasterFunctionInfos
Supported Operations:
Export Image
Identify
Measure
Compute Histograms
Compute Statistics Histograms
Get Samples
Compute Class Statistics