{
 "currentVersion": 10.4,
 "serviceDescription": "hh",
 "name": "hh",
 "description": "hh",
 "extent": {
  "xmin": 41,
  "ymin": -10600583,
  "xmax": 10600655,
  "ymax": 31,
  "spatialReference": {"wkid": null}
 },
 "initialExtent": {
  "xmin": 41,
  "ymin": -10600583,
  "xmax": 10600655,
  "ymax": 31,
  "spatialReference": {"wkid": null}
 },
 "fullExtent": {
  "xmin": 41,
  "ymin": -10600583,
  "xmax": 10600655,
  "ymax": 31,
  "spatialReference": {"wkid": null}
 },
 "pixelSizeX": 10600614,
 "pixelSizeY": 10600614,
 "bandCount": 1,
 "pixelType": "U8",
 "minPixelSize": 0,
 "maxPixelSize": 0,
 "copyrightText": "",
 "serviceDataType": "esriImageServiceDataTypeGeneric",
 "minValues": [],
 "maxValues": [],
 "meanValues": [],
 "stdvValues": [],
 "objectIdField": "",
 "fields": [],
 "capabilities": "Image,Metadata",
 "defaultMosaicMethod": "Center",
 "allowedMosaicMethods": "",
 "sortField": "",
 "sortValue": null,
 "mosaicOperator": "First",
 "defaultCompressionQuality": 75,
 "defaultResamplingMethod": "Bilinear",
 "maxImageHeight": 4100,
 "maxImageWidth": 15000,
 "allowRasterFunction": true,
 "rasterFunctionInfos": [],
 "rasterTypeInfos": [
  {
   "name": "Raster Dataset",
   "description": "Supports all ArcGIS Raster Datasets",
   "help": ""
  }
 ],
 "mensurationCapabilities": "",
 "hasHistograms": false,
 "hasColormap": false,
 "hasRasterAttributeTable": false,
 "minScale": 0,
 "maxScale": 0,
 "exportTilesAllowed": false,
 "hasMultidimensions": false,
 "supportsStatistics": false,
 "supportsAdvancedQueries": false,
 "editFieldsInfo": null,
 "ownershipBasedAccessControlForRasters": null,
 "allowComputeTiePoints": false,
 "useStandardizedQueries": true,
 "advancedQueryCapabilities": {
  "useStandardizedQueries": true,
  "supportsStatistics": false,
  "supportsOrderBy": false,
  "supportsDistinct": false,
  "supportsPagination": false
 },
 "spatialReference": {"wkid": null}
}