{
 "currentVersion": 10.4,
 "serviceDescription": "Esri",
 "mapName": "Layers",
 "description": "",
 "copyrightText": "Esri",
 "supportsDynamicLayers": false,
 "layers": [
  {
   "id": 0,
   "name": "All_Roads_update",
   "parentLayerId": -1,
   "defaultVisibility": true,
   "subLayerIds": null,
   "minScale": 40000,
   "maxScale": 20000
  },
  {
   "id": 1,
   "name": "All_Roads_Dissolve",
   "parentLayerId": -1,
   "defaultVisibility": true,
   "subLayerIds": null,
   "minScale": 0,
   "maxScale": 0
  },
  {
   "id": 2,
   "name": "All_Roads_update5000",
   "parentLayerId": -1,
   "defaultVisibility": true,
   "subLayerIds": null,
   "minScale": 5000,
   "maxScale": 0
  },
  {
   "id": 3,
   "name": "All_Roads_update20000",
   "parentLayerId": -1,
   "defaultVisibility": true,
   "subLayerIds": null,
   "minScale": 20000,
   "maxScale": 5001
  },
  {
   "id": 4,
   "name": "5000",
   "parentLayerId": -1,
   "defaultVisibility": false,
   "subLayerIds": null,
   "minScale": 400000,
   "maxScale": 40000
  },
  {
   "id": 5,
   "name": "Parcels_G1",
   "parentLayerId": -1,
   "defaultVisibility": true,
   "subLayerIds": null,
   "minScale": 20000,
   "maxScale": 0
  },
  {
   "id": 6,
   "name": "Parcels_G2",
   "parentLayerId": -1,
   "defaultVisibility": true,
   "subLayerIds": null,
   "minScale": 20000,
   "maxScale": 0
  },
  {
   "id": 7,
   "name": "Parcels_G3",
   "parentLayerId": -1,
   "defaultVisibility": true,
   "subLayerIds": null,
   "minScale": 20000,
   "maxScale": 0
  },
  {
   "id": 8,
   "name": "Parcels_G4",
   "parentLayerId": -1,
   "defaultVisibility": true,
   "subLayerIds": null,
   "minScale": 20000,
   "maxScale": 0
  },
  {
   "id": 9,
   "name": "Parcels_G5",
   "parentLayerId": -1,
   "defaultVisibility": true,
   "subLayerIds": null,
   "minScale": 20000,
   "maxScale": 0
  },
  {
   "id": 10,
   "name": "Parcels_G6",
   "parentLayerId": -1,
   "defaultVisibility": true,
   "subLayerIds": null,
   "minScale": 20000,
   "maxScale": 0
  },
  {
   "id": 11,
   "name": "Blocks_Srv",
   "parentLayerId": -1,
   "defaultVisibility": true,
   "subLayerIds": null,
   "minScale": 20000,
   "maxScale": 0
  },
  {
   "id": 12,
   "name": "Sectors",
   "parentLayerId": -1,
   "defaultVisibility": true,
   "subLayerIds": null,
   "minScale": 100001,
   "maxScale": 50000
  },
  {
   "id": 13,
   "name": "NBHoods",
   "parentLayerId": -1,
   "defaultVisibility": true,
   "subLayerIds": null,
   "minScale": 100001,
   "maxScale": 5001
  },
  {
   "id": 14,
   "name": "NBHoods",
   "parentLayerId": -1,
   "defaultVisibility": true,
   "subLayerIds": null,
   "minScale": 400000,
   "maxScale": 100001
  },
  {
   "id": 15,
   "name": "Gov_Full",
   "parentLayerId": -1,
   "defaultVisibility": true,
   "subLayerIds": null,
   "minScale": 1100000,
   "maxScale": 300001
  },
  {
   "id": 16,
   "name": "Base_Map",
   "parentLayerId": -1,
   "defaultVisibility": true,
   "subLayerIds": null,
   "minScale": 0,
   "maxScale": 0
  }
 ],
 "tables": [
  {
   "id": 17,
   "name": "KMGISDB.DBO.LUT_LANDUSE"
  },
  {
   "id": 18,
   "name": "KMGISDB.DBO.LUT_CLASS"
  },
  {
   "id": 19,
   "name": "Main_Archiving"
  }
 ],
 "spatialReference": {
  "wkt": "PROJCS[\"KTM_KM\",GEOGCS[\"GCS_KUDAMS\",DATUM[\"D_Kuwait_Utility\",SPHEROID[\"GRS_1980\",6378137.0,298.257222101]],PRIMEM[\"Greenwich\",0.0],UNIT[\"Degree\",0.0174532925199433]],PROJECTION[\"Transverse_Mercator\"],PARAMETER[\"False_Easting\",499975.0],PARAMETER[\"False_Northing\",209269.0],PARAMETER[\"Central_Meridian\",48.0],PARAMETER[\"Scale_Factor\",1.0],PARAMETER[\"Central_Parallel\",29.0],UNIT[\"Meter\",1.0]]"
 },
 "singleFusedMapCache": true,
 "tileInfo": {
  "rows": 256,
  "cols": 256,
  "dpi": 96,
  "format": "PNG",
  "compressionQuality": 0,
  "origin": {
   "x": -5123200,
   "y": 7002100
  },
  "spatialReference": {
   "wkt": "PROJCS[\"KTM_KM\",GEOGCS[\"GCS_KUDAMS\",DATUM[\"D_Kuwait_Utility\",SPHEROID[\"GRS_1980\",6378137.0,298.257222101]],PRIMEM[\"Greenwich\",0.0],UNIT[\"Degree\",0.0174532925199433]],PROJECTION[\"Transverse_Mercator\"],PARAMETER[\"False_Easting\",499975.0],PARAMETER[\"False_Northing\",209269.0],PARAMETER[\"Central_Meridian\",48.0],PARAMETER[\"Scale_Factor\",1.0],PARAMETER[\"Central_Parallel\",29.0],UNIT[\"Meter\",1.0]]"
  },
  "lods": [
   {
    "level": 0,
    "resolution": 529.1677250021168,
    "scale": 2000000
   },
   {
    "level": 1,
    "resolution": 264.5838625010584,
    "scale": 1000000
   },
   {
    "level": 2,
    "resolution": 132.2919312505292,
    "scale": 500000
   },
   {
    "level": 3,
    "resolution": 66.1459656252646,
    "scale": 250000
   },
   {
    "level": 4,
    "resolution": 33.0729828126323,
    "scale": 125000
   },
   {
    "level": 5,
    "resolution": 16.933367200067735,
    "scale": 64000
   },
   {
    "level": 6,
    "resolution": 8.466683600033868,
    "scale": 32000
   },
   {
    "level": 7,
    "resolution": 4.233341800016934,
    "scale": 16000
   },
   {
    "level": 8,
    "resolution": 2.116670900008467,
    "scale": 8000
   },
   {
    "level": 9,
    "resolution": 1.0583354500042335,
    "scale": 4000
   },
   {
    "level": 10,
    "resolution": 0.5291677250021167,
    "scale": 2000
   },
   {
    "level": 11,
    "resolution": 0.26458386250105836,
    "scale": 1000
   },
   {
    "level": 12,
    "resolution": 0.13229193125052918,
    "scale": 500
   },
   {
    "level": 13,
    "resolution": 0.06614596562526459,
    "scale": 250
   },
   {
    "level": 14,
    "resolution": 0.033072982812632296,
    "scale": 125
   }
  ]
 },
 "initialExtent": {
  "xmin": 359302.2148746189,
  "ymin": 256682.69836090278,
  "xmax": 630500.7912302935,
  "ymax": 335259.9634380261,
  "spatialReference": {
   "cs": "pcs",
   "wkt": "PROJCS[\"KTM_KM\",GEOGCS[\"GCS_KUDAMS\",DATUM[\"D_Kuwait_Utility\",SPHEROID[\"GRS_1980\",6378137.0,298.257222101]],PRIMEM[\"Greenwich\",0.0],UNIT[\"Degree\",0.0174532925199433]],PROJECTION[\"Transverse_Mercator\"],PARAMETER[\"False_Easting\",499975.0],PARAMETER[\"False_Northing\",209269.0],PARAMETER[\"Central_Meridian\",48.0],PARAMETER[\"Scale_Factor\",1.0],PARAMETER[\"Central_Parallel\",29.0],UNIT[\"Meter\",1.0]]"
  }
 },
 "fullExtent": {
  "xmin": 356716.9999099104,
  "ymin": 139764.0000187289,
  "xmax": 599180.0000879625,
  "ymax": 346926.6249988135,
  "spatialReference": {
   "cs": "pcs",
   "wkt": "PROJCS[\"KTM_KM\",GEOGCS[\"GCS_KUDAMS\",DATUM[\"D_Kuwait_Utility\",SPHEROID[\"GRS_1980\",6378137.0,298.257222101]],PRIMEM[\"Greenwich\",0.0],UNIT[\"Degree\",0.0174532925199433]],PROJECTION[\"Transverse_Mercator\"],PARAMETER[\"False_Easting\",499975.0],PARAMETER[\"False_Northing\",209269.0],PARAMETER[\"Central_Meridian\",48.0],PARAMETER[\"Scale_Factor\",1.0],PARAMETER[\"Central_Parallel\",29.0],UNIT[\"Meter\",1.0]]"
  }
 },
 "minScale": 2000000,
 "maxScale": 500,
 "units": "esriMeters",
 "supportedImageFormatTypes": "PNG32,PNG24,PNG,JPG,DIB,TIFF,EMF,PS,PDF,GIF,SVG,SVGZ,BMP",
 "documentInfo": {
  "Title": "Esri",
  "Author": "Esri",
  "Comments": "Esri",
  "Subject": "Esri",
  "Category": "",
  "AntialiasingMode": "None",
  "TextAntialiasingMode": "Force",
  "Keywords": "Esri"
 },
 "capabilities": "Map,Query,Data",
 "supportedQueryFormats": "JSON, AMF, geoJSON",
 "exportTilesAllowed": false,
 "maxRecordCount": 1000,
 "maxImageHeight": 4096,
 "maxImageWidth": 4096,
 "tileServers": "",
 "supportedExtensions": ""
}
